BEGIN:VCALENDAR
VERSION:2.0
PRODID:-// - ECPv6.6.0.2//NONSGML v1.0//EN
CALSCALE:GREGORIAN
METHOD:PUBLISH
X-ORIGINAL-URL:https://pakhokstudio.com
X-WR-CALDESC:Events for 
REFRESH-INTERVAL;VALUE=DURATION:PT1H
X-Robots-Tag:noindex
X-PUBLISHED-TTL:PT1H
BEGIN:VTIMEZONE
TZID:UTC
BEGIN:STANDARD
TZOFFSETFROM:+0000
TZOFFSETTO:+0000
TZNAME:UTC
DTSTART:20250101T000000
END:STANDARD
END:VTIMEZONE
BEGIN:VEVENT
DTSTART;TZID=UTC:20251021T180000
DTEND;TZID=UTC:20251021T190000
DTSTAMP:20260420T033030
CREATED:20250928T084317Z
LAST-MODIFIED:20251029T025314Z
UID:347-1761069600-1761073200@pakhokstudio.com
SUMMARY:棉裏針入門 Cotton Needle
DESCRIPTION:Min Lui Jum [棉 ‘Cotton’ 裏 ‘Inside’ 針 ’Needle’] means a Needle (1st finger) hidden inside the Cotton (Palm) and is the soft-hand form of the Tibetan White Crane Kung Fu. The fluidic moves are performed on 14 stumps in a plum blossom pattern. Seeking calmness and settlement while in constant motion\, it is also called a “marrow washing” technique with rejuvenation benefits.\n免費 入門課程 Free Introductory Classes\n逢星期二   6:00 – 7:00 pm  Every Tuesday\n21/10/2025 – 23/12/2025\n屯門龍逸社區會堂 \n \n 
URL:https://pakhokstudio.com/event/cotton-needle-0/
LOCATION:LUNG YAT COMMUNITY HALL\, TUEN MUN\, 屯門龍逸社區會堂 106 Yip Wong Rd Tuen Mun\, Tuen Mun\, Hong Kong
END:VEVENT
END:VCALENDAR