BEGIN:VCALENDAR
VERSION:2.0
PRODID:-// - ECPv6.6.0.2//NONSGML v1.0//EN
CALSCALE:GREGORIAN
METHOD:PUBLISH
X-ORIGINAL-URL:https://pakhokstudio.com
X-WR-CALDESC:Events for 
REFRESH-INTERVAL;VALUE=DURATION:PT1H
X-Robots-Tag:noindex
X-PUBLISHED-TTL:PT1H
BEGIN:VTIMEZONE
TZID:UTC
BEGIN:STANDARD
TZOFFSETFROM:+0000
TZOFFSETTO:+0000
TZNAME:UTC
DTSTART:20250101T000000
END:STANDARD
END:VTIMEZONE
BEGIN:VEVENT
DTSTART;TZID=UTC:20250121T180000
DTEND;TZID=UTC:20250121T180000
DTSTAMP:20260422T225639
CREATED:20250121T180034Z
LAST-MODIFIED:20250119T215212Z
UID:251-1737482400-1737482400@pakhokstudio.com
SUMMARY:Kung Fu for Young People
DESCRIPTION:Will go through basic stances\, steps\, footwork\, blocks\, kicks and strikes. \nRecurring every Tuesday 6:00- 8:00 pm at West Youth Zone. For young people age 8-12 .
URL:https://pakhokstudio.com/event/kung-fu-for-young-people-2/
LOCATION:West Youth Zone\, South Africa Road\, White City\, London\, United Kingdom
END:VEVENT
END:VCALENDAR