BEGIN:VCALENDAR
VERSION:2.0
PRODID:-// - ECPv6.6.0.2//NONSGML v1.0//EN
CALSCALE:GREGORIAN
METHOD:PUBLISH
X-ORIGINAL-URL:https://pakhokstudio.com
X-WR-CALDESC:Events for 
REFRESH-INTERVAL;VALUE=DURATION:PT1H
X-Robots-Tag:noindex
X-PUBLISHED-TTL:PT1H
BEGIN:VTIMEZONE
TZID:America/Vancouver
BEGIN:DAYLIGHT
TZOFFSETFROM:-0800
TZOFFSETTO:-0700
TZNAME:PDT
DTSTART:20250309T100000
END:DAYLIGHT
BEGIN:STANDARD
TZOFFSETFROM:-0700
TZOFFSETTO:-0800
TZNAME:PST
DTSTART:20251102T090000
END:STANDARD
END:VTIMEZONE
BEGIN:VEVENT
DTSTART;TZID=America/Vancouver:20250210T143000
DTEND;TZID=America/Vancouver:20250210T153000
DTSTAMP:20260422T181214
CREATED:20250207T134153Z
LAST-MODIFIED:20250207T134153Z
UID:332-1739197800-1739201400@pakhokstudio.com
SUMMARY:Tibetan White Crane Tai Chi
DESCRIPTION:Mondays – 2:30 PM to 3:30 PM\nJanuary 6 – March 10\, 2025 \nContact : Sifu Tom Haber\, \ntom.haber@twckungfu.com
URL:https://pakhokstudio.com/event/tibetan-white-crane-tai-chi/
LOCATION:Comox Recreation Centre\, Comox Recreation Centre1855 Noel Ave\, Comox\, British Columbia\, V9M 2H2
ORGANIZER;CN="Comox Recreation Centre":MAILTO:tom.haber@twckungfu.com
END:VEVENT
END:VCALENDAR